BEGIN:VCALENDAR
VERSION:2.0
PRODID:-//Hockey-Club Bad Honnef e. V. - ECPv6.15.18//NONSGML v1.0//EN
CALSCALE:GREGORIAN
METHOD:PUBLISH
X-ORIGINAL-URL:https://www.hockey-club-honnef.de
X-WR-CALDESC:Veranstaltungen für Hockey-Club Bad Honnef e. V.
REFRESH-INTERVAL;VALUE=DURATION:PT1H
X-Robots-Tag:noindex
X-PUBLISHED-TTL:PT1H
BEGIN:VTIMEZONE
TZID:Europe/Berlin
BEGIN:DAYLIGHT
TZOFFSETFROM:+0100
TZOFFSETTO:+0200
TZNAME:CEST
DTSTART:20230326T010000
END:DAYLIGHT
BEGIN:STANDARD
TZOFFSETFROM:+0200
TZOFFSETTO:+0100
TZNAME:CET
DTSTART:20231029T010000
END:STANDARD
BEGIN:DAYLIGHT
TZOFFSETFROM:+0100
TZOFFSETTO:+0200
TZNAME:CEST
DTSTART:20240331T010000
END:DAYLIGHT
BEGIN:STANDARD
TZOFFSETFROM:+0200
TZOFFSETTO:+0100
TZNAME:CET
DTSTART:20241027T010000
END:STANDARD
BEGIN:DAYLIGHT
TZOFFSETFROM:+0100
TZOFFSETTO:+0200
TZNAME:CEST
DTSTART:20250330T010000
END:DAYLIGHT
BEGIN:STANDARD
TZOFFSETFROM:+0200
TZOFFSETTO:+0100
TZNAME:CET
DTSTART:20251026T010000
END:STANDARD
BEGIN:DAYLIGHT
TZOFFSETFROM:+0100
TZOFFSETTO:+0200
TZNAME:CEST
DTSTART:20260329T010000
END:DAYLIGHT
BEGIN:STANDARD
TZOFFSETFROM:+0200
TZOFFSETTO:+0100
TZNAME:CET
DTSTART:20261025T010000
END:STANDARD
BEGIN:DAYLIGHT
TZOFFSETFROM:+0100
TZOFFSETTO:+0200
TZNAME:CEST
DTSTART:20270328T010000
END:DAYLIGHT
BEGIN:STANDARD
TZOFFSETFROM:+0200
TZOFFSETTO:+0100
TZNAME:CET
DTSTART:20271031T010000
END:STANDARD
END:VTIMEZONE
BEGIN:VEVENT
DTSTART;TZID=Europe/Berlin:20260321T100000
DTEND;TZID=Europe/Berlin:20260321T130000
DTSTAMP:20260423T131253
CREATED:20260209T155932Z
LAST-MODIFIED:20260209T160556Z
UID:3091-1774087200-1774098000@www.hockey-club-honnef.de
SUMMARY:Frühjahrs-Platzaktion
DESCRIPTION:
URL:https://www.hockey-club-honnef.de/event/fruehjahrs-platzaktion
LOCATION:Hockey-Club Bad Honnef\, Menzenberger Str. 70\, Bad Honnef\, 53604\, Deutschland
CATEGORIES:Platzaktion
END:VEVENT
BEGIN:VEVENT
DTSTART;TZID=Europe/Berlin:20260302T183000
DTEND;TZID=Europe/Berlin:20260302T200000
DTSTAMP:20260423T131253
CREATED:20260209T163407Z
LAST-MODIFIED:20260209T163617Z
UID:3113-1772476200-1772481600@www.hockey-club-honnef.de
SUMMARY:Vereinsmeisterschaft im Bogenschießen
DESCRIPTION:
URL:https://www.hockey-club-honnef.de/event/vereinsmeisterschaft-im-bogenschiessen
LOCATION:Tunnel Erpel
END:VEVENT
BEGIN:VEVENT
DTSTART;TZID=Europe/Berlin:20260228T100000
DTEND;TZID=Europe/Berlin:20260228T170000
DTSTAMP:20260423T131253
CREATED:20260209T163210Z
LAST-MODIFIED:20260209T163210Z
UID:3111-1772272800-1772298000@www.hockey-club-honnef.de
SUMMARY:Elternturnier
DESCRIPTION:
URL:https://www.hockey-club-honnef.de/event/elternturnier
CATEGORIES:Elternhockey
END:VEVENT
BEGIN:VEVENT
DTSTART;TZID=Europe/Berlin:20260215T130000
DTEND;TZID=Europe/Berlin:20260215T170000
DTSTAMP:20260423T131253
CREATED:20260209T155759Z
LAST-MODIFIED:20260209T161424Z
UID:3089-1771160400-1771174800@www.hockey-club-honnef.de
SUMMARY:Karnevalszug schauen
DESCRIPTION:Treffpunkt: FLoßweg in Höhe Ulmenweg.
URL:https://www.hockey-club-honnef.de/event/karnevalszug-schauen
LOCATION:Hockey-Club Bad Honnef\, Menzenberger Str. 70\, Bad Honnef\, 53604\, Deutschland
CATEGORIES:Feste
END:VEVENT
BEGIN:VEVENT
DTSTART;TZID=Europe/Berlin:20251128T193000
DTEND;TZID=Europe/Berlin:20251128T233000
DTSTAMP:20260423T131253
CREATED:20250418T082440Z
LAST-MODIFIED:20251102T141807Z
UID:2957-1764358200-1764372600@www.hockey-club-honnef.de
SUMMARY:Weihnachtsfeier
DESCRIPTION:
URL:https://www.hockey-club-honnef.de/event/biwak-weihnachtsfeier
LOCATION:Weinhaus Steinbach
END:VEVENT
BEGIN:VEVENT
DTSTART;TZID=Europe/Berlin:20251121T183000
DTEND;TZID=Europe/Berlin:20251121T200000
DTSTAMP:20260423T131253
CREATED:20251102T141556Z
LAST-MODIFIED:20251102T141739Z
UID:3051-1763749800-1763755200@www.hockey-club-honnef.de
SUMMARY:Außerordentliche Mitgliederversammlung
DESCRIPTION:
URL:https://www.hockey-club-honnef.de/event/ausserordentliche-mitgliederversammlung
LOCATION:Hockey-Club Bad Honnef\, Menzenberger Str. 70\, Bad Honnef\, 53604\, Deutschland
END:VEVENT
BEGIN:VEVENT
DTSTART;TZID=Europe/Berlin:20251024T190000
DTEND;TZID=Europe/Berlin:20251024T233000
DTSTAMP:20260423T131253
CREATED:20250708T151214Z
LAST-MODIFIED:20250708T151214Z
UID:3016-1761332400-1761348600@www.hockey-club-honnef.de
SUMMARY:Saisonabschlussfeier
DESCRIPTION:
URL:https://www.hockey-club-honnef.de/event/saisonabschlussfeier-3
CATEGORIES:Feste,Hockeyplaytz
END:VEVENT
BEGIN:VEVENT
DTSTART;TZID=Europe/Berlin:20250830T130000
DTEND;TZID=Europe/Berlin:20250830T233000
DTSTAMP:20260423T131253
CREATED:20250823T135951Z
LAST-MODIFIED:20250823T135951Z
UID:2968-1756558800-1756596600@www.hockey-club-honnef.de
SUMMARY:R(h)einspaziert Festival Stadtjugendring
DESCRIPTION:Nachmittags Hockey ausprobieren auf der Insel.\nAbends Getränkestand.
URL:https://www.hockey-club-honnef.de/event/rheinspaziert-festival-stadtjugendring
LOCATION:Insel Grafenwerth
END:VEVENT
BEGIN:VEVENT
DTSTART;TZID=Europe/Berlin:20250823T150000
DTEND;TZID=Europe/Berlin:20250824T150000
DTSTAMP:20260423T131253
CREATED:20250823T141436Z
LAST-MODIFIED:20250823T141436Z
UID:3024-1755961200-1756047600@www.hockey-club-honnef.de
SUMMARY:Zelten Knaben C auf dem Hockeyplatz
DESCRIPTION:
URL:https://www.hockey-club-honnef.de/event/zelten-knaben-c-auf-dem-hockeyplatz
LOCATION:Hockey-Club Bad Honnef\, Menzenberger Str. 70\, Bad Honnef\, 53604\, Deutschland
END:VEVENT
BEGIN:VEVENT
DTSTART;TZID=Europe/Berlin:20250815T080000
DTEND;TZID=Europe/Berlin:20250815T080000
DTSTAMP:20260423T131253
CREATED:20250513T091512Z
LAST-MODIFIED:20250708T151046Z
UID:2966-1755244800-1755244800@www.hockey-club-honnef.de
SUMMARY:FNE Bad Honnef
DESCRIPTION:FNE Tag auf dem Hockeyplatz
URL:https://www.hockey-club-honnef.de/event/fne-bad-honnef
LOCATION:Hockey-Club Bad Honnef\, Menzenberger Str. 70\, Bad Honnef\, 53604\, Deutschland
CATEGORIES:FNE,Hockeyplaytz
END:VEVENT
BEGIN:VEVENT
DTSTART;TZID=Europe/Berlin:20250705T160000
DTEND;TZID=Europe/Berlin:20250705T233000
DTSTAMP:20260423T131253
CREATED:20250418T082338Z
LAST-MODIFIED:20250418T082338Z
UID:2955-1751731200-1751758200@www.hockey-club-honnef.de
SUMMARY:Sommerfest und 60-Jahr-Feier
DESCRIPTION:
URL:https://www.hockey-club-honnef.de/event/sommerfest-und-60-jahr-feier
LOCATION:Hockey-Club Bad Honnef\, Menzenberger Str. 70\, Bad Honnef\, 53604\, Deutschland
END:VEVENT
BEGIN:VEVENT
DTSTART;VALUE=DATE:20250628
DTEND;VALUE=DATE:20250630
DTSTAMP:20260423T131253
CREATED:20250513T091540Z
LAST-MODIFIED:20250513T091540Z
UID:2964-1751068800-1751241599@www.hockey-club-honnef.de
SUMMARY:Turnier Handball TV Eiche
DESCRIPTION:Handballturnier des TV Eiche auf dem Hockeyplatz
URL:https://www.hockey-club-honnef.de/event/turnier-handball-tv-eiche
LOCATION:Hockey-Club Bad Honnef\, Menzenberger Str. 70\, Bad Honnef\, 53604\, Deutschland
END:VEVENT
BEGIN:VEVENT
DTSTART;TZID=Europe/Berlin:20250602T080000
DTEND;TZID=Europe/Berlin:20250602T130000
DTSTAMP:20260423T131253
CREATED:20250513T091122Z
LAST-MODIFIED:20250513T091602Z
UID:2962-1748851200-1748869200@www.hockey-club-honnef.de
SUMMARY:Sportfest Martinus Grundschule
DESCRIPTION:Sportfest auf dem Hockeyplatz
URL:https://www.hockey-club-honnef.de/event/sportfest-martinus-grundschule
LOCATION:Hockey-Club Bad Honnef\, Menzenberger Str. 70\, Bad Honnef\, 53604\, Deutschland
END:VEVENT
BEGIN:VEVENT
DTSTART;TZID=Europe/Berlin:20250529T110000
DTEND;TZID=Europe/Berlin:20250529T170000
DTSTAMP:20260423T131253
CREATED:20250418T082108Z
LAST-MODIFIED:20250513T091735Z
UID:2953-1748516400-1748538000@www.hockey-club-honnef.de
SUMMARY:Vatertagsspiel
DESCRIPTION:
URL:https://www.hockey-club-honnef.de/event/vatertagsspiel-2
LOCATION:Hockey-Club Bad Honnef\, Menzenberger Str. 70\, Bad Honnef\, 53604\, Deutschland
CATEGORIES:Vatertag
END:VEVENT
BEGIN:VEVENT
DTSTART;TZID=Europe/Berlin:20250516T190000
DTEND;TZID=Europe/Berlin:20250516T210000
DTSTAMP:20260423T131253
CREATED:20250418T082025Z
LAST-MODIFIED:20250418T082025Z
UID:2951-1747422000-1747429200@www.hockey-club-honnef.de
SUMMARY:Mitgliederversammlung
DESCRIPTION:
URL:https://www.hockey-club-honnef.de/event/mitgliederversammlung-5
LOCATION:Hockey-Club Bad Honnef\, Menzenberger Str. 70\, Bad Honnef\, 53604\, Deutschland
END:VEVENT
BEGIN:VEVENT
DTSTART;TZID=Europe/Berlin:20250426T110000
DTEND;TZID=Europe/Berlin:20250426T160000
DTSTAMP:20260423T131253
CREATED:20250418T081927Z
LAST-MODIFIED:20250418T081927Z
UID:2949-1745665200-1745683200@www.hockey-club-honnef.de
SUMMARY:Platzaktion 11.00h
DESCRIPTION:
URL:https://www.hockey-club-honnef.de/event/platzaktion-11-00h
LOCATION:Hockey-Club Bad Honnef\, Menzenberger Str. 70\, Bad Honnef\, 53604\, Deutschland
END:VEVENT
BEGIN:VEVENT
DTSTART;TZID=Europe/Berlin:20250315T000000
DTEND;TZID=Europe/Berlin:20250315T000000
DTSTAMP:20260423T131253
CREATED:20241208T115042Z
LAST-MODIFIED:20241208T115042Z
UID:2834-1741996800-1741996800@www.hockey-club-honnef.de
SUMMARY:Hallenturnier der HCH Elternmannschaft R(h)einschläger
DESCRIPTION:
URL:https://www.hockey-club-honnef.de/event/hallenturnier-der-hch-elternmannschaft-rheinschlaeger
LOCATION:Menzenberger Halle Bad Honnef
END:VEVENT
BEGIN:VEVENT
DTSTART;TZID=Europe/Berlin:20250308T120000
DTEND;TZID=Europe/Berlin:20250308T170000
DTSTAMP:20260423T131253
CREATED:20241208T110855Z
LAST-MODIFIED:20241208T110855Z
UID:2828-1741435200-1741453200@www.hockey-club-honnef.de
SUMMARY:5.Spieltag U10
DESCRIPTION:
URL:https://www.hockey-club-honnef.de/event/5-spieltag-u10-2
LOCATION:Troisdorf
END:VEVENT
BEGIN:VEVENT
DTSTART;TZID=Europe/Berlin:20250222T120000
DTEND;TZID=Europe/Berlin:20250222T170000
DTSTAMP:20260423T131253
CREATED:20250212T183130Z
LAST-MODIFIED:20250217T084208Z
UID:2881-1740225600-1740243600@www.hockey-club-honnef.de
SUMMARY:!!! Platzaktion des HCH !!!
DESCRIPTION:Es gibt viel zu tun:\nBäume schneiden\, Plaster erneuern\, Sperrmüll zusammenstellen\, Zaun reparieren\, etc.
URL:https://www.hockey-club-honnef.de/event/platzaktion-des-hch
LOCATION:Hockey-Club Bad Honnef\, Menzenberger Str. 70\, Bad Honnef\, 53604\, Deutschland
END:VEVENT
BEGIN:VEVENT
DTSTART;TZID=Europe/Berlin:20250222T110000
DTEND;TZID=Europe/Berlin:20250222T120000
DTSTAMP:20260423T131253
CREATED:20250217T084514Z
LAST-MODIFIED:20250217T084643Z
UID:2893-1740222000-1740225600@www.hockey-club-honnef.de
SUMMARY:Demo "Bad Honnef bleibt bunt"
DESCRIPTION:Demonstration der Bad Honnefer Sportvereine für Vielfalt\, Offenheit und Integration auf dem Marktplatz.
URL:https://www.hockey-club-honnef.de/event/demo-bad-honnef-bleibt-bunt
LOCATION:Marktplatz Bad Honnef
END:VEVENT
BEGIN:VEVENT
DTSTART;TZID=Europe/Berlin:20250215T100000
DTEND;TZID=Europe/Berlin:20250215T170000
DTSTAMP:20260423T131253
CREATED:20241208T110756Z
LAST-MODIFIED:20241208T110756Z
UID:2826-1739613600-1739638800@www.hockey-club-honnef.de
SUMMARY:4.Spieltag U10
DESCRIPTION:
URL:https://www.hockey-club-honnef.de/event/4-spieltag-u10-2
LOCATION:Hockey-Club Bad Honnef\, Menzenberger Str. 70\, Bad Honnef\, 53604\, Deutschland
END:VEVENT
BEGIN:VEVENT
DTSTART;TZID=Europe/Berlin:20250208T160000
DTEND;TZID=Europe/Berlin:20250208T200000
DTSTAMP:20260423T131253
CREATED:20241208T110534Z
LAST-MODIFIED:20241208T110534Z
UID:2822-1739030400-1739044800@www.hockey-club-honnef.de
SUMMARY:4.Spieltag U14
DESCRIPTION:
URL:https://www.hockey-club-honnef.de/event/4-spieltag-u14
LOCATION:SW Bonn
END:VEVENT
BEGIN:VEVENT
DTSTART;TZID=Europe/Berlin:20250118T110000
DTEND;TZID=Europe/Berlin:20250118T170000
DTSTAMP:20260423T131253
CREATED:20241208T111024Z
LAST-MODIFIED:20241208T111024Z
UID:2832-1737198000-1737219600@www.hockey-club-honnef.de
SUMMARY:Platzaktion
DESCRIPTION:
URL:https://www.hockey-club-honnef.de/event/platzaktion-3
LOCATION:Hockey-Club Bad Honnef\, Menzenberger Str. 70\, Bad Honnef\, 53604\, Deutschland
END:VEVENT
BEGIN:VEVENT
DTSTART;TZID=Europe/Berlin:20250118T100000
DTEND;TZID=Europe/Berlin:20250118T170000
DTSTAMP:20260423T131253
CREATED:20241208T110442Z
LAST-MODIFIED:20241208T110442Z
UID:2820-1737194400-1737219600@www.hockey-club-honnef.de
SUMMARY:3.Spieltag U14
DESCRIPTION:
URL:https://www.hockey-club-honnef.de/event/3-spieltag-u14
LOCATION:Rheinbach
END:VEVENT
BEGIN:VEVENT
DTSTART;TZID=Europe/Berlin:20250111T111500
DTEND;TZID=Europe/Berlin:20250111T170000
DTSTAMP:20260423T131253
CREATED:20241208T110702Z
LAST-MODIFIED:20241208T110702Z
UID:2824-1736594100-1736614800@www.hockey-club-honnef.de
SUMMARY:3.Spieltag U10
DESCRIPTION:
URL:https://www.hockey-club-honnef.de/event/3-spieltag-u10
LOCATION:Troisdorf
END:VEVENT
BEGIN:VEVENT
DTSTART;TZID=Europe/Berlin:20250109T193000
DTEND;TZID=Europe/Berlin:20250109T220000
DTSTAMP:20260423T131253
CREATED:20241208T110947Z
LAST-MODIFIED:20241208T110947Z
UID:2830-1736451000-1736460000@www.hockey-club-honnef.de
SUMMARY:Vorstandssitzung
DESCRIPTION:
URL:https://www.hockey-club-honnef.de/event/vorstandssitzung
END:VEVENT
BEGIN:VEVENT
DTSTART;TZID=Europe/Berlin:20241214T100000
DTEND;TZID=Europe/Berlin:20241214T170000
DTSTAMP:20260423T131253
CREATED:20241208T110325Z
LAST-MODIFIED:20241208T110325Z
UID:2818-1734170400-1734195600@www.hockey-club-honnef.de
SUMMARY:2.Spieltag U14
DESCRIPTION:
URL:https://www.hockey-club-honnef.de/event/2-spieltag-u14
LOCATION:Hockey-Club Bad Honnef\, Menzenberger Str. 70\, Bad Honnef\, 53604\, Deutschland
END:VEVENT
BEGIN:VEVENT
DTSTART;TZID=Europe/Berlin:20241129T190000
DTEND;TZID=Europe/Berlin:20241130T000000
DTSTAMP:20260423T131253
CREATED:20240702T192323Z
LAST-MODIFIED:20240702T192323Z
UID:2765-1732906800-1732924800@www.hockey-club-honnef.de
SUMMARY:Weihnachtsfeier/ - biwak im Clubhaus
DESCRIPTION:
URL:https://www.hockey-club-honnef.de/event/weihnachtsfeier-biwak-im-clubhaus
LOCATION:Hockey-Club Bad Honnef\, Menzenberger Str. 70\, Bad Honnef\, 53604\, Deutschland
END:VEVENT
BEGIN:VEVENT
DTSTART;TZID=Europe/Berlin:20241026T103000
DTEND;TZID=Europe/Berlin:20241026T160000
DTSTAMP:20260423T131253
CREATED:20240821T193503Z
LAST-MODIFIED:20240821T193521Z
UID:2792-1729938600-1729958400@www.hockey-club-honnef.de
SUMMARY:Herbstplatzaktion
DESCRIPTION:Der Platz muss winterfest gemacht werden\, z.B. Sträucher und Bäume schneiden\, Laub vom Rasen\, entfernen Netze von den Toren\, Banden abhängen\, Umzug der Hockeyutensilien in die Menzenberger Halle\, usw.
URL:https://www.hockey-club-honnef.de/event/herbstplatzaktion-2
LOCATION:Hockey-Club Bad Honnef\, Menzenberger Str. 70\, Bad Honnef\, 53604\, Deutschland
END:VEVENT
BEGIN:VEVENT
DTSTART;TZID=Europe/Berlin:20241025T190000
DTEND;TZID=Europe/Berlin:20241026T000000
DTSTAMP:20260423T131253
CREATED:20240702T192101Z
LAST-MODIFIED:20240702T192420Z
UID:2763-1729882800-1729900800@www.hockey-club-honnef.de
SUMMARY:Saisonabschluss
DESCRIPTION:
URL:https://www.hockey-club-honnef.de/event/saisonabschluss-2
LOCATION:Hockey-Club Bad Honnef\, Menzenberger Str. 70\, Bad Honnef\, 53604\, Deutschland
END:VEVENT
END:VCALENDAR