BEGIN:VCALENDAR
VERSION:2.0
PRODID:-//Hockey-Club Bad Honnef e. V. - ECPv6.15.18//NONSGML v1.0//EN
CALSCALE:GREGORIAN
METHOD:PUBLISH
X-ORIGINAL-URL:https://www.hockey-club-honnef.de
X-WR-CALDESC:Veranstaltungen für Hockey-Club Bad Honnef e. V.
REFRESH-INTERVAL;VALUE=DURATION:PT1H
X-Robots-Tag:noindex
X-PUBLISHED-TTL:PT1H
BEGIN:VTIMEZONE
TZID:UTC
BEGIN:STANDARD
TZOFFSETFROM:+0000
TZOFFSETTO:+0000
TZNAME:UTC
DTSTART:20160101T000000
END:STANDARD
END:VTIMEZONE
BEGIN:VEVENT
DTSTART;TZID=UTC:20171201T180000
DTEND;TZID=UTC:20171201T230000
DTSTAMP:20260426T040442
CREATED:20170531T133111Z
LAST-MODIFIED:20171104T092738Z
UID:291-1512151200-1512169200@www.hockey-club-honnef.de
SUMMARY:HCH Weihnachtsfeier
DESCRIPTION:
URL:https://www.hockey-club-honnef.de/event/hch-weihnachtsfeier
LOCATION:Hockey-Club Bad Honnef\, Menzenberger Str. 70\, Bad Honnef\, 53604\, Deutschland
ORGANIZER;CN="Hockey-Club Bad Honnef":MAILTO:info@hockey-club-honnef.de
END:VEVENT
BEGIN:VEVENT
DTSTART;TZID=UTC:20171203T100000
DTEND;TZID=UTC:20171203T170000
DTSTAMP:20260426T040442
CREATED:20171104T100754Z
LAST-MODIFIED:20171104T100754Z
UID:1222-1512295200-1512320400@www.hockey-club-honnef.de
SUMMARY:Knaben B in Bad Honnef - 2. Spieltag
DESCRIPTION:
URL:https://www.hockey-club-honnef.de/event/knaben-b-in-bad-honnef-2-spieltag
LOCATION:Hockey-Club Bad Honnef\, Menzenberger Str. 70\, Bad Honnef\, 53604\, Deutschland
CATEGORIES:Knaben B
END:VEVENT
BEGIN:VEVENT
DTSTART;TZID=UTC:20171209T140000
DTEND;TZID=UTC:20171209T183000
DTSTAMP:20260426T040442
CREATED:20171104T100857Z
LAST-MODIFIED:20171104T100857Z
UID:1224-1512828000-1512844200@www.hockey-club-honnef.de
SUMMARY:Knaben C in Rheinbach
DESCRIPTION:
URL:https://www.hockey-club-honnef.de/event/knaben-c-in-rheinbach
LOCATION:Rheinbach
CATEGORIES:Knaben C
END:VEVENT
BEGIN:VEVENT
DTSTART;TZID=UTC:20171209T140000
DTEND;TZID=UTC:20171209T183000
DTSTAMP:20260426T040442
CREATED:20171104T100949Z
LAST-MODIFIED:20171104T100949Z
UID:1226-1512828000-1512844200@www.hockey-club-honnef.de
SUMMARY:Jugend B in Erftstadt - 2. Spieltag
DESCRIPTION:
URL:https://www.hockey-club-honnef.de/event/jugend-b-in-erftstadt-2-spieltag
LOCATION:Erftstadt
CATEGORIES:Jugend B
END:VEVENT
BEGIN:VEVENT
DTSTART;TZID=UTC:20171217T100000
DTEND;TZID=UTC:20171217T170000
DTSTAMP:20260426T040442
CREATED:20171104T101048Z
LAST-MODIFIED:20171104T101048Z
UID:1229-1513504800-1513530000@www.hockey-club-honnef.de
SUMMARY:Knaben A in Bad Honnef - 2. Spieltag
DESCRIPTION:
URL:https://www.hockey-club-honnef.de/event/knaben-a-in-bad-honnef-2-spieltag
LOCATION:Hockey-Club Bad Honnef\, Menzenberger Str. 70\, Bad Honnef\, 53604\, Deutschland
CATEGORIES:Knaben A
END:VEVENT
END:VCALENDAR