BEGIN:VCALENDAR
VERSION:2.0
PRODID:-//Hockey-Club Bad Honnef e. V. - ECPv6.15.18//NONSGML v1.0//EN
CALSCALE:GREGORIAN
METHOD:PUBLISH
X-ORIGINAL-URL:https://www.hockey-club-honnef.de
X-WR-CALDESC:Veranstaltungen für Hockey-Club Bad Honnef e. V.
REFRESH-INTERVAL;VALUE=DURATION:PT1H
X-Robots-Tag:noindex
X-PUBLISHED-TTL:PT1H
BEGIN:VTIMEZONE
TZID:UTC
BEGIN:STANDARD
TZOFFSETFROM:+0000
TZOFFSETTO:+0000
TZNAME:UTC
DTSTART:20170101T000000
END:STANDARD
END:VTIMEZONE
BEGIN:VEVENT
DTSTART;TZID=UTC:20180120T140000
DTEND;TZID=UTC:20180120T180000
DTSTAMP:20260426T024142
CREATED:20180111T204059Z
LAST-MODIFIED:20180111T204059Z
UID:1236-1516456800-1516471200@www.hockey-club-honnef.de
SUMMARY:Jugend B beim BTHV
DESCRIPTION:
URL:https://www.hockey-club-honnef.de/event/jugend-b-beim-bthv
LOCATION:Bonner THV\, Christian-Miesen-Str. 1\, Bonn\, 53129\, Deutschland
CATEGORIES:Jugend B
END:VEVENT
BEGIN:VEVENT
DTSTART;TZID=UTC:20180120T150000
DTEND;TZID=UTC:20180120T190000
DTSTAMP:20260426T024142
CREATED:20180111T204158Z
LAST-MODIFIED:20180111T204158Z
UID:1238-1516460400-1516474800@www.hockey-club-honnef.de
SUMMARY:Knaben B bei SW Bonn
DESCRIPTION:
URL:https://www.hockey-club-honnef.de/event/knaben-b-bei-sw-bonn
LOCATION:SW Bonn
CATEGORIES:Knaben B
END:VEVENT
BEGIN:VEVENT
DTSTART;TZID=UTC:20180121T140000
DTEND;TZID=UTC:20180121T180000
DTSTAMP:20260426T024142
CREATED:20180111T204246Z
LAST-MODIFIED:20180111T204247Z
UID:1241-1516543200-1516557600@www.hockey-club-honnef.de
SUMMARY:Knaben C in Bad Honnef
DESCRIPTION:
URL:https://www.hockey-club-honnef.de/event/knaben-c-in-bad-honnef
LOCATION:Hockey-Club Bad Honnef\, Menzenberger Str. 70\, Bad Honnef\, 53604\, Deutschland
CATEGORIES:Knaben C
END:VEVENT
BEGIN:VEVENT
DTSTART;TZID=UTC:20180121T143000
DTEND;TZID=UTC:20180121T170000
DTSTAMP:20260426T024142
CREATED:20180111T204344Z
LAST-MODIFIED:20180111T204420Z
UID:1243-1516545000-1516554000@www.hockey-club-honnef.de
SUMMARY:Neujahrsschiessen der Bogenschützen auf unserer Anlage
DESCRIPTION:
URL:https://www.hockey-club-honnef.de/event/neujahrsschiessen-der-bogenschuetzen-auf-unserer-anlage
LOCATION:Hockey-Club Bad Honnef\, Menzenberger Str. 70\, Bad Honnef\, 53604\, Deutschland
CATEGORIES:Bogenschiessen
END:VEVENT
BEGIN:VEVENT
DTSTART;TZID=UTC:20180127T100000
DTEND;TZID=UTC:20180127T143000
DTSTAMP:20260426T024142
CREATED:20180111T204518Z
LAST-MODIFIED:20180111T204518Z
UID:1245-1517047200-1517063400@www.hockey-club-honnef.de
SUMMARY:Knaben A in Troisdorf
DESCRIPTION:
URL:https://www.hockey-club-honnef.de/event/knaben-a-in-troisdorf
LOCATION:Troisdorf
CATEGORIES:Knaben A
END:VEVENT
BEGIN:VEVENT
DTSTART;TZID=UTC:20180127T103000
DTEND;TZID=UTC:20180127T140000
DTSTAMP:20260426T024142
CREATED:20180111T204633Z
LAST-MODIFIED:20180111T204633Z
UID:1247-1517049000-1517061600@www.hockey-club-honnef.de
SUMMARY:Winter-Platzaktion
DESCRIPTION:
URL:https://www.hockey-club-honnef.de/event/winter-platzaktion
LOCATION:Hockey-Club Bad Honnef\, Menzenberger Str. 70\, Bad Honnef\, 53604\, Deutschland
END:VEVENT
END:VCALENDAR