BEGIN:VCALENDAR
VERSION:2.0
PRODID:-//Hockey-Club Bad Honnef e. V. - ECPv6.15.18//NONSGML v1.0//EN
CALSCALE:GREGORIAN
METHOD:PUBLISH
X-ORIGINAL-URL:https://www.hockey-club-honnef.de
X-WR-CALDESC:Veranstaltungen für Hockey-Club Bad Honnef e. V.
REFRESH-INTERVAL;VALUE=DURATION:PT1H
X-Robots-Tag:noindex
X-PUBLISHED-TTL:PT1H
BEGIN:VTIMEZONE
TZID:UTC
BEGIN:STANDARD
TZOFFSETFROM:+0000
TZOFFSETTO:+0000
TZNAME:UTC
DTSTART:20170101T000000
END:STANDARD
END:VTIMEZONE
BEGIN:VEVENT
DTSTART;TZID=UTC:20180203T150000
DTEND;TZID=UTC:20180203T183000
DTSTAMP:20260426T012935
CREATED:20180111T204718Z
LAST-MODIFIED:20180111T204718Z
UID:1249-1517670000-1517682600@www.hockey-club-honnef.de
SUMMARY:Knaben A bei SW Bonn
DESCRIPTION:
URL:https://www.hockey-club-honnef.de/event/knaben-a-bei-sw-bonn
LOCATION:SW Bonn
CATEGORIES:Knaben A
END:VEVENT
BEGIN:VEVENT
DTSTART;TZID=UTC:20180204T100000
DTEND;TZID=UTC:20180204T150000
DTSTAMP:20260426T012935
CREATED:20180111T204822Z
LAST-MODIFIED:20180111T204823Z
UID:1251-1517738400-1517756400@www.hockey-club-honnef.de
SUMMARY:Jugend B in Bad Honnef
DESCRIPTION:
URL:https://www.hockey-club-honnef.de/event/jugend-b-in-bad-honnef
LOCATION:Hockey-Club Bad Honnef\, Menzenberger Str. 70\, Bad Honnef\, 53604\, Deutschland
CATEGORIES:Jugend B
END:VEVENT
BEGIN:VEVENT
DTSTART;TZID=UTC:20180204T120000
DTEND;TZID=UTC:20180204T150000
DTSTAMP:20260426T012935
CREATED:20180111T204903Z
LAST-MODIFIED:20180111T204903Z
UID:1253-1517745600-1517756400@www.hockey-club-honnef.de
SUMMARY:Knaben B bei SW Köln
DESCRIPTION:
URL:https://www.hockey-club-honnef.de/event/knaben-b-bei-sw-koeln
LOCATION:SW Köln
CATEGORIES:Knaben B
END:VEVENT
BEGIN:VEVENT
DTSTART;TZID=UTC:20180211T130000
DTEND;TZID=UTC:20180211T170000
DTSTAMP:20260426T012935
CREATED:20180111T205019Z
LAST-MODIFIED:20180111T205019Z
UID:1256-1518354000-1518368400@www.hockey-club-honnef.de
SUMMARY:Gemeinsames "Honnefer Zooch" gucken und feiern
DESCRIPTION:
URL:https://www.hockey-club-honnef.de/event/gemeinsames-honnefer-zooch-gucken-und-feiern
LOCATION:Hockey-Club Bad Honnef\, Menzenberger Str. 70\, Bad Honnef\, 53604\, Deutschland
END:VEVENT
BEGIN:VEVENT
DTSTART;TZID=UTC:20180218T100000
DTEND;TZID=UTC:20180218T170000
DTSTAMP:20260426T012935
CREATED:20180111T205101Z
LAST-MODIFIED:20180111T205101Z
UID:1258-1518948000-1518973200@www.hockey-club-honnef.de
SUMMARY:Knaben C in Bad Neuenahr
DESCRIPTION:
URL:https://www.hockey-club-honnef.de/event/knaben-c-in-bad-neuenahr
LOCATION:Bad Neuenahr
CATEGORIES:Knaben C
END:VEVENT
BEGIN:VEVENT
DTSTART;TZID=UTC:20180225T100000
DTEND;TZID=UTC:20180225T170000
DTSTAMP:20260426T012935
CREATED:20180111T205202Z
LAST-MODIFIED:20180111T205203Z
UID:1261-1519552800-1519578000@www.hockey-club-honnef.de
SUMMARY:Hallenhockeyturnier der Elternmannschaft
DESCRIPTION:
URL:https://www.hockey-club-honnef.de/event/hallenhockeyturnier-der-elternmannschaft
LOCATION:Menzenberger Halle
CATEGORIES:Elternhockey
END:VEVENT
END:VCALENDAR