BEGIN:VCALENDAR
VERSION:2.0
PRODID:-//Hockey-Club Bad Honnef e. V. - ECPv6.15.18//NONSGML v1.0//EN
CALSCALE:GREGORIAN
METHOD:PUBLISH
X-ORIGINAL-URL:https://www.hockey-club-honnef.de
X-WR-CALDESC:Veranstaltungen für Hockey-Club Bad Honnef e. V.
REFRESH-INTERVAL;VALUE=DURATION:PT1H
X-Robots-Tag:noindex
X-PUBLISHED-TTL:PT1H
BEGIN:VTIMEZONE
TZID:UTC
BEGIN:STANDARD
TZOFFSETFROM:+0000
TZOFFSETTO:+0000
TZNAME:UTC
DTSTART:20170101T000000
END:STANDARD
END:VTIMEZONE
BEGIN:VEVENT
DTSTART;TZID=UTC:20180510T110000
DTEND;TZID=UTC:20180510T140000
DTSTAMP:20260425T212956
CREATED:20180414T174429Z
LAST-MODIFIED:20180414T174651Z
UID:1302-1525950000-1525960800@www.hockey-club-honnef.de
SUMMARY:Vatertagsspiel
DESCRIPTION:
URL:https://www.hockey-club-honnef.de/event/vatertagsspiel
LOCATION:Hockey-Club Bad Honnef\, Menzenberger Str. 70\, Bad Honnef\, 53604\, Deutschland
CATEGORIES:Elternhockey,Senioren
END:VEVENT
END:VCALENDAR