BEGIN:VCALENDAR
VERSION:2.0
PRODID:-//Hockey-Club Bad Honnef e. V. - ECPv6.15.18//NONSGML v1.0//EN
CALSCALE:GREGORIAN
METHOD:PUBLISH
X-WR-CALNAME:Hockey-Club Bad Honnef e. V.
X-ORIGINAL-URL:https://www.hockey-club-honnef.de
X-WR-CALDESC:Veranstaltungen für Hockey-Club Bad Honnef e. V.
REFRESH-INTERVAL;VALUE=DURATION:PT1H
X-Robots-Tag:noindex
X-PUBLISHED-TTL:PT1H
BEGIN:VTIMEZONE
TZID:UTC
BEGIN:STANDARD
TZOFFSETFROM:+0000
TZOFFSETTO:+0000
TZNAME:UTC
DTSTART:20180101T000000
END:STANDARD
END:VTIMEZONE
BEGIN:VEVENT
DTSTART;TZID=UTC:20190113T100000
DTEND;TZID=UTC:20190113T140000
DTSTAMP:20260423T180510
CREATED:20181029T074908Z
LAST-MODIFIED:20181106T094323Z
UID:1366-1547373600-1547388000@www.hockey-club-honnef.de
SUMMARY:4. Spieltag Jugend B in Horrem
DESCRIPTION:
URL:https://www.hockey-club-honnef.de/event/4-spieltag-jugend-b-in-erftstadt
LOCATION:Horrem
CATEGORIES:Jugend B
ORGANIZER;CN="Hockey-Club Bad Honnef":MAILTO:info@hockey-club-honnef.de
END:VEVENT
BEGIN:VEVENT
DTSTART;TZID=UTC:20190113T150000
DTEND;TZID=UTC:20190113T190000
DTSTAMP:20260423T180510
CREATED:20181029T074823Z
LAST-MODIFIED:20181029T074823Z
UID:1364-1547391600-1547406000@www.hockey-club-honnef.de
SUMMARY:3. Spieltag Knaben B beim MSC (Grüngürtel)
DESCRIPTION:
URL:https://www.hockey-club-honnef.de/event/3-spieltag-knaben-b-beim-msc-gruenguertel
LOCATION:Marienburg\, Schillingsrotter Str. 99\, Köln\, 50996\, Deutschland
CATEGORIES:Knaben B
ORGANIZER;CN="Hockey-Club Bad Honnef":MAILTO:info@hockey-club-honnef.de
END:VEVENT
BEGIN:VEVENT
DTSTART;TZID=UTC:20190113T160000
DTEND;TZID=UTC:20190113T190000
DTSTAMP:20260423T180510
CREATED:20181106T094807Z
LAST-MODIFIED:20181219T135356Z
UID:1382-1547395200-1547406000@www.hockey-club-honnef.de
SUMMARY:3. Spieltag Knaben C in Bad Honnef
DESCRIPTION:
URL:https://www.hockey-club-honnef.de/event/3-spieltag-knaben-c-in-bad-honnef
LOCATION:Menzenberger Halle
CATEGORIES:Knaben C
ORGANIZER;CN="Hockey-Club Bad Honnef":MAILTO:info@hockey-club-honnef.de
END:VEVENT
BEGIN:VEVENT
DTSTART;TZID=UTC:20190126T100000
DTEND;TZID=UTC:20190126T140000
DTSTAMP:20260423T180510
CREATED:20181106T095129Z
LAST-MODIFIED:20181106T095142Z
UID:1384-1548496800-1548511200@www.hockey-club-honnef.de
SUMMARY:4. Spieltag Knaben B in Bad Honnef
DESCRIPTION:
URL:https://www.hockey-club-honnef.de/event/4-spieltag-knaben-b-in-bad-honnef
LOCATION:Menzenberger Halle
CATEGORIES:Knaben B
ORGANIZER;CN="Hockey-Club Bad Honnef":MAILTO:info@hockey-club-honnef.de
END:VEVENT
BEGIN:VEVENT
DTSTART;TZID=UTC:20190127T100000
DTEND;TZID=UTC:20190127T140000
DTSTAMP:20260423T180510
CREATED:20181106T095246Z
LAST-MODIFIED:20181106T095246Z
UID:1386-1548583200-1548597600@www.hockey-club-honnef.de
SUMMARY:5. Spieltag Jugend B in Erftstadt
DESCRIPTION:
URL:https://www.hockey-club-honnef.de/event/5-spieltag-jugend-b-in-erftstadt
LOCATION:Erftstadt
CATEGORIES:Jugend B
ORGANIZER;CN="Hockey-Club Bad Honnef":MAILTO:info@hockey-club-honnef.de
END:VEVENT
END:VCALENDAR