BEGIN:VCALENDAR
VERSION:2.0
PRODID:-//Hockey-Club Bad Honnef e. V. - ECPv6.15.18//NONSGML v1.0//EN
CALSCALE:GREGORIAN
METHOD:PUBLISH
X-ORIGINAL-URL:https://www.hockey-club-honnef.de
X-WR-CALDESC:Veranstaltungen für Hockey-Club Bad Honnef e. V.
REFRESH-INTERVAL;VALUE=DURATION:PT1H
X-Robots-Tag:noindex
X-PUBLISHED-TTL:PT1H
BEGIN:VTIMEZONE
TZID:UTC
BEGIN:STANDARD
TZOFFSETFROM:+0000
TZOFFSETTO:+0000
TZNAME:UTC
DTSTART:20180101T000000
END:STANDARD
END:VTIMEZONE
BEGIN:VEVENT
DTSTART;TZID=UTC:20190210T113000
DTEND;TZID=UTC:20190210T180000
DTSTAMP:20260423T162707
CREATED:20181219T135538Z
LAST-MODIFIED:20190201T140319Z
UID:1389-1549798200-1549821600@www.hockey-club-honnef.de
SUMMARY:HCH Eltern-Turnier in Bad Honnef
DESCRIPTION:
URL:https://www.hockey-club-honnef.de/event/hch-eltern-turnier-in-bad-honnef
LOCATION:Menzenberger Halle
CATEGORIES:Elternhockey
ORGANIZER;CN="Hockey-Club Bad Honnef":MAILTO:info@hockey-club-honnef.de
END:VEVENT
BEGIN:VEVENT
DTSTART;TZID=UTC:20190217T100000
DTEND;TZID=UTC:20190217T140000
DTSTAMP:20260423T162707
CREATED:20181029T075047Z
LAST-MODIFIED:20181106T094512Z
UID:1370-1550397600-1550412000@www.hockey-club-honnef.de
SUMMARY:4. Spieltag Knaben C beim Bonner THV
DESCRIPTION:
URL:https://www.hockey-club-honnef.de/event/3-spieltag-knaben-c-beim-bonner-thv
LOCATION:Bonner THV\, Christian-Miesen-Str. 1\, Bonn\, 53129\, Deutschland
CATEGORIES:Knaben C
ORGANIZER;CN="Hockey-Club Bad Honnef":MAILTO:info@hockey-club-honnef.de
END:VEVENT
END:VCALENDAR