BEGIN:VCALENDAR
VERSION:2.0
PRODID:-//Hockey-Club Bad Honnef e. V. - ECPv6.15.18//NONSGML v1.0//EN
CALSCALE:GREGORIAN
METHOD:PUBLISH
X-WR-CALNAME:Hockey-Club Bad Honnef e. V.
X-ORIGINAL-URL:https://www.hockey-club-honnef.de
X-WR-CALDESC:Veranstaltungen für Hockey-Club Bad Honnef e. V.
REFRESH-INTERVAL;VALUE=DURATION:PT1H
X-Robots-Tag:noindex
X-PUBLISHED-TTL:PT1H
BEGIN:VTIMEZONE
TZID:Europe/Berlin
BEGIN:DAYLIGHT
TZOFFSETFROM:+0100
TZOFFSETTO:+0200
TZNAME:CEST
DTSTART:20180325T010000
END:DAYLIGHT
BEGIN:STANDARD
TZOFFSETFROM:+0200
TZOFFSETTO:+0100
TZNAME:CET
DTSTART:20181028T010000
END:STANDARD
BEGIN:DAYLIGHT
TZOFFSETFROM:+0100
TZOFFSETTO:+0200
TZNAME:CEST
DTSTART:20190331T010000
END:DAYLIGHT
BEGIN:STANDARD
TZOFFSETFROM:+0200
TZOFFSETTO:+0100
TZNAME:CET
DTSTART:20191027T010000
END:STANDARD
BEGIN:DAYLIGHT
TZOFFSETFROM:+0100
TZOFFSETTO:+0200
TZNAME:CEST
DTSTART:20200329T010000
END:DAYLIGHT
BEGIN:STANDARD
TZOFFSETFROM:+0200
TZOFFSETTO:+0100
TZNAME:CET
DTSTART:20201025T010000
END:STANDARD
END:VTIMEZONE
BEGIN:VEVENT
DTSTART;VALUE=DATE:20190907
DTEND;VALUE=DATE:20190908
DTSTAMP:20260423T170303
CREATED:20190317T084911Z
LAST-MODIFIED:20190628T080308Z
UID:1442-1567814400-1567900799@www.hockey-club-honnef.de
SUMMARY:HCH Sommerfest
DESCRIPTION:
URL:https://www.hockey-club-honnef.de/event/sommerfest
CATEGORIES:Feste
END:VEVENT
BEGIN:VEVENT
DTSTART;VALUE=DATE:20190907
DTEND;VALUE=DATE:20190908
DTSTAMP:20260423T170303
CREATED:20190828T110041Z
LAST-MODIFIED:20190828T110041Z
UID:2025-1567814400-1567900799@www.hockey-club-honnef.de
SUMMARY:Knaben C in Erftstadt
DESCRIPTION:
URL:https://www.hockey-club-honnef.de/event/knaben-c-in-erftstadt
LOCATION:Erftstadt
CATEGORIES:Knaben C
END:VEVENT
BEGIN:VEVENT
DTSTART;VALUE=DATE:20190908
DTEND;VALUE=DATE:20190909
DTSTAMP:20260423T170303
CREATED:20190617T075345Z
LAST-MODIFIED:20190828T105937Z
UID:1893-1567900800-1567987199@www.hockey-club-honnef.de
SUMMARY:Jugend B bei SW Bonn
DESCRIPTION:
URL:https://www.hockey-club-honnef.de/event/jugend-b
CATEGORIES:Jugend B
END:VEVENT
BEGIN:VEVENT
DTSTART;VALUE=DATE:20190908
DTEND;VALUE=DATE:20190909
DTSTAMP:20260423T170303
CREATED:20190828T110149Z
LAST-MODIFIED:20190828T110149Z
UID:2029-1567900800-1567987199@www.hockey-club-honnef.de
SUMMARY:Knaben B in Pulheim
DESCRIPTION:
URL:https://www.hockey-club-honnef.de/event/knaben-b-in-pulheim
LOCATION:Pulheim
CATEGORIES:Knaben B
END:VEVENT
BEGIN:VEVENT
DTSTART;VALUE=DATE:20190914
DTEND;VALUE=DATE:20190915
DTSTAMP:20260423T170303
CREATED:20190828T110240Z
LAST-MODIFIED:20190828T111100Z
UID:2033-1568419200-1568505599@www.hockey-club-honnef.de
SUMMARY:Knaben A in Solingen
DESCRIPTION:
URL:https://www.hockey-club-honnef.de/event/knaben-a-in-solingen
LOCATION:Solingen
END:VEVENT
BEGIN:VEVENT
DTSTART;TZID=Europe/Berlin:20190921T140000
DTEND;TZID=Europe/Berlin:20190921T170000
DTSTAMP:20260423T170303
CREATED:20190828T110118Z
LAST-MODIFIED:20190828T110118Z
UID:2027-1569074400-1569085200@www.hockey-club-honnef.de
SUMMARY:Knaben C in Honnef
DESCRIPTION:
URL:https://www.hockey-club-honnef.de/event/knaben-c-in-honnef
CATEGORIES:Knaben C
END:VEVENT
BEGIN:VEVENT
DTSTART;VALUE=DATE:20190922
DTEND;VALUE=DATE:20190923
DTSTAMP:20260423T170303
CREATED:20190828T110211Z
LAST-MODIFIED:20190828T110211Z
UID:2031-1569110400-1569196799@www.hockey-club-honnef.de
SUMMARY:Knaben B in Neuenahr
DESCRIPTION:
URL:https://www.hockey-club-honnef.de/event/knaben-b-in-neuenahr
CATEGORIES:Knaben B
END:VEVENT
BEGIN:VEVENT
DTSTART;TZID=Europe/Berlin:20190922T110000
DTEND;TZID=Europe/Berlin:20190922T140000
DTSTAMP:20260423T170303
CREATED:20190828T110441Z
LAST-MODIFIED:20190828T110441Z
UID:2037-1569150000-1569160800@www.hockey-club-honnef.de
SUMMARY:Spezialisten gegen Leverkusen in Honnef
DESCRIPTION:
URL:https://www.hockey-club-honnef.de/event/spezialisten-gegen-leverkusen-in-honnef
LOCATION:Hockey-Club Bad Honnef\, Menzenberger Str. 70\, Bad Honnef\, 53604\, Deutschland
CATEGORIES:Senioren
END:VEVENT
BEGIN:VEVENT
DTSTART;TZID=Europe/Berlin:20190928T140000
DTEND;TZID=Europe/Berlin:20190928T170000
DTSTAMP:20260423T170303
CREATED:20190828T110313Z
LAST-MODIFIED:20190828T111128Z
UID:2035-1569679200-1569690000@www.hockey-club-honnef.de
SUMMARY:Knaben A in Honnef
DESCRIPTION:
URL:https://www.hockey-club-honnef.de/event/knaben-a-in-honnef
LOCATION:Hockey-Club Bad Honnef\, Menzenberger Str. 70\, Bad Honnef\, 53604\, Deutschland
CATEGORIES:Knaben A
END:VEVENT
BEGIN:VEVENT
DTSTART;VALUE=DATE:20190929
DTEND;VALUE=DATE:20190930
DTSTAMP:20260423T170303
CREATED:20190617T075422Z
LAST-MODIFIED:20190828T105958Z
UID:1895-1569715200-1569801599@www.hockey-club-honnef.de
SUMMARY:Jugend B bei Hellerhof
DESCRIPTION:
URL:https://www.hockey-club-honnef.de/event/jugend-b-2
CATEGORIES:Jugend B
END:VEVENT
END:VCALENDAR