BEGIN:VCALENDAR
VERSION:2.0
PRODID:-//Hockey-Club Bad Honnef e. V. - ECPv6.15.18//NONSGML v1.0//EN
CALSCALE:GREGORIAN
METHOD:PUBLISH
X-WR-CALNAME:Hockey-Club Bad Honnef e. V.
X-ORIGINAL-URL:https://www.hockey-club-honnef.de
X-WR-CALDESC:Veranstaltungen für Hockey-Club Bad Honnef e. V.
REFRESH-INTERVAL;VALUE=DURATION:PT1H
X-Robots-Tag:noindex
X-PUBLISHED-TTL:PT1H
BEGIN:VTIMEZONE
TZID:Europe/Berlin
BEGIN:DAYLIGHT
TZOFFSETFROM:+0100
TZOFFSETTO:+0200
TZNAME:CEST
DTSTART:20180325T010000
END:DAYLIGHT
BEGIN:STANDARD
TZOFFSETFROM:+0200
TZOFFSETTO:+0100
TZNAME:CET
DTSTART:20181028T010000
END:STANDARD
BEGIN:DAYLIGHT
TZOFFSETFROM:+0100
TZOFFSETTO:+0200
TZNAME:CEST
DTSTART:20190331T010000
END:DAYLIGHT
BEGIN:STANDARD
TZOFFSETFROM:+0200
TZOFFSETTO:+0100
TZNAME:CET
DTSTART:20191027T010000
END:STANDARD
BEGIN:DAYLIGHT
TZOFFSETFROM:+0100
TZOFFSETTO:+0200
TZNAME:CEST
DTSTART:20200329T010000
END:DAYLIGHT
BEGIN:STANDARD
TZOFFSETFROM:+0200
TZOFFSETTO:+0100
TZNAME:CET
DTSTART:20201025T010000
END:STANDARD
END:VTIMEZONE
BEGIN:VEVENT
DTSTART;TZID=Europe/Berlin:20191103T120000
DTEND;TZID=Europe/Berlin:20191103T210000
DTSTAMP:20260425T130540
CREATED:20191028T125652Z
LAST-MODIFIED:20191028T125652Z
UID:2140-1572782400-1572814800@www.hockey-club-honnef.de
SUMMARY:Besuch des Olympic Qualifier in Gladbach
DESCRIPTION:
URL:https://www.hockey-club-honnef.de/event/besuch-des-olympic-qualifier-in-gladbach
CATEGORIES:Aktion,Knaben A,Knaben B
END:VEVENT
BEGIN:VEVENT
DTSTART;TZID=Europe/Berlin:20191123T150000
DTEND;TZID=Europe/Berlin:20191123T183000
DTSTAMP:20260425T130540
CREATED:20190828T110819Z
LAST-MODIFIED:20190828T110819Z
UID:2046-1574521200-1574533800@www.hockey-club-honnef.de
SUMMARY:Spezialisten gegen Pinguine bei SW Köln
DESCRIPTION:
URL:https://www.hockey-club-honnef.de/event/spezialisten-gegen-pinguine-bei-sw-koeln
LOCATION:SW Köln
CATEGORIES:Senioren
END:VEVENT
BEGIN:VEVENT
DTSTART;TZID=Europe/Berlin:20191129T190000
DTEND;TZID=Europe/Berlin:20191129T233000
DTSTAMP:20260425T130540
CREATED:20191028T125450Z
LAST-MODIFIED:20191028T125450Z
UID:2138-1575054000-1575070200@www.hockey-club-honnef.de
SUMMARY:HCH Weihnachtsfeier
DESCRIPTION:
URL:https://www.hockey-club-honnef.de/event/hch-weihnachtsfeier-3
CATEGORIES:Feste
END:VEVENT
BEGIN:VEVENT
DTSTART;TZID=Europe/Berlin:20191130T140000
DTEND;TZID=Europe/Berlin:20191130T180000
DTSTAMP:20260425T130540
CREATED:20191205T093156Z
LAST-MODIFIED:20191205T093156Z
UID:2148-1575122400-1575136800@www.hockey-club-honnef.de
SUMMARY:2. Spieltag Knaben C in Troisdorf
DESCRIPTION:
URL:https://www.hockey-club-honnef.de/event/2-spieltag-knaben-c-in-troisdorf
LOCATION:Troisdorf
CATEGORIES:Knaben C
ORGANIZER;CN="Hockey-Club Bad Honnef":MAILTO:info@hockey-club-honnef.de
END:VEVENT
END:VCALENDAR