BEGIN:VCALENDAR
VERSION:2.0
PRODID:-//Hockey-Club Bad Honnef e. V. - ECPv6.15.18//NONSGML v1.0//EN
CALSCALE:GREGORIAN
METHOD:PUBLISH
X-ORIGINAL-URL:https://www.hockey-club-honnef.de
X-WR-CALDESC:Veranstaltungen für Hockey-Club Bad Honnef e. V.
REFRESH-INTERVAL;VALUE=DURATION:PT1H
X-Robots-Tag:noindex
X-PUBLISHED-TTL:PT1H
BEGIN:VTIMEZONE
TZID:Europe/Berlin
BEGIN:DAYLIGHT
TZOFFSETFROM:+0100
TZOFFSETTO:+0200
TZNAME:CEST
DTSTART:20180325T010000
END:DAYLIGHT
BEGIN:STANDARD
TZOFFSETFROM:+0200
TZOFFSETTO:+0100
TZNAME:CET
DTSTART:20181028T010000
END:STANDARD
BEGIN:DAYLIGHT
TZOFFSETFROM:+0100
TZOFFSETTO:+0200
TZNAME:CEST
DTSTART:20190331T010000
END:DAYLIGHT
BEGIN:STANDARD
TZOFFSETFROM:+0200
TZOFFSETTO:+0100
TZNAME:CET
DTSTART:20191027T010000
END:STANDARD
BEGIN:DAYLIGHT
TZOFFSETFROM:+0100
TZOFFSETTO:+0200
TZNAME:CEST
DTSTART:20200329T010000
END:DAYLIGHT
BEGIN:STANDARD
TZOFFSETFROM:+0200
TZOFFSETTO:+0100
TZNAME:CET
DTSTART:20201025T010000
END:STANDARD
END:VTIMEZONE
BEGIN:VEVENT
DTSTART;TZID=Europe/Berlin:20191201T100000
DTEND;TZID=Europe/Berlin:20191201T150000
DTSTAMP:20260425T142400
CREATED:20191205T093354Z
LAST-MODIFIED:20191205T093354Z
UID:2152-1575194400-1575212400@www.hockey-club-honnef.de
SUMMARY:1. Spieltag Knaben B in Rheinbach
DESCRIPTION:
URL:https://www.hockey-club-honnef.de/event/1-spieltag-knaben-b-in-rheinbach-2
LOCATION:Rheinbach
CATEGORIES:Knaben B
ORGANIZER;CN="Hockey-Club Bad Honnef":MAILTO:info@hockey-club-honnef.de
END:VEVENT
BEGIN:VEVENT
DTSTART;TZID=Europe/Berlin:20191201T100000
DTEND;TZID=Europe/Berlin:20191201T170000
DTSTAMP:20260425T142400
CREATED:20191205T093306Z
LAST-MODIFIED:20191205T093306Z
UID:2150-1575194400-1575219600@www.hockey-club-honnef.de
SUMMARY:2. Spieltag Jugend B in Bad Honnef
DESCRIPTION:
URL:https://www.hockey-club-honnef.de/event/2-spieltag-jugend-b-in-bad-honnef-2
LOCATION:Hockey-Club Bad Honnef\, Menzenberger Str. 70\, Bad Honnef\, 53604\, Deutschland
CATEGORIES:Jugend B
ORGANIZER;CN="Hockey-Club Bad Honnef":MAILTO:info@hockey-club-honnef.de
END:VEVENT
BEGIN:VEVENT
DTSTART;TZID=Europe/Berlin:20191208T130000
DTEND;TZID=Europe/Berlin:20191208T170000
DTSTAMP:20260425T142400
CREATED:20191205T093504Z
LAST-MODIFIED:20191205T093504Z
UID:2154-1575810000-1575824400@www.hockey-club-honnef.de
SUMMARY:2. Spieltag Knaben B in Troisdorf
DESCRIPTION:
URL:https://www.hockey-club-honnef.de/event/2-spieltag-knaben-b-in-troisdorf
LOCATION:Troisdorf
CATEGORIES:Knaben B
ORGANIZER;CN="Hockey-Club Bad Honnef":MAILTO:info@hockey-club-honnef.de
END:VEVENT
BEGIN:VEVENT
DTSTART;TZID=Europe/Berlin:20191214T140000
DTEND;TZID=Europe/Berlin:20191214T180000
DTSTAMP:20260425T142400
CREATED:20191205T093711Z
LAST-MODIFIED:20191205T093711Z
UID:2156-1576332000-1576346400@www.hockey-club-honnef.de
SUMMARY:2. Spieltag Knaben A bei RW Köln
DESCRIPTION:
URL:https://www.hockey-club-honnef.de/event/2-spieltag-knaben-a-bei-rw-koeln
LOCATION:RW Köln\, Olympiaweg 9\, Köln\, 50933\, Deutschland
CATEGORIES:Knaben A
ORGANIZER;CN="Hockey-Club Bad Honnef":MAILTO:info@hockey-club-honnef.de
END:VEVENT
END:VCALENDAR